BEGIN:VCALENDAR
VERSION:2.0
PRODID:-//wp-events-plugin.com//7.2.3.1//EN
BEGIN:VEVENT
UID:6@teechfoundation1.org
DTSTART;TZID=America/Chicago:20260126T100000
DTEND;TZID=America/Chicago:20260126T120000
DTSTAMP:20260114T201902Z
URL:https://teechfoundation1.org/events/wellness-mindset/
SUMMARY:WELLNESS MINDSET
DESCRIPTION:Time &amp\; Location\nDATE: 26\, JANUARY 2026\nTIME: AT 10.00 A
 M\n\nAbout the event\nPRESENTER: Dr. K Davis\nWELLNESS MINDSET
ATTACH;FMTTYPE=image/jpeg:https://teechfoundation1.org/wp-content/uploads/
 2026/01/image-82-1-scaled.png
END:VEVENT
BEGIN:VTIMEZONE
TZID:America/Chicago
X-LIC-LOCATION:America/Chicago
BEGIN:STANDARD
DTSTART:20251102T010000
TZOFFSETFROM:-0500
TZOFFSETTO:-0600
TZNAME:CST
END:STANDARD
END:VTIMEZONE
END:VCALENDAR