BEGIN:VCALENDAR
VERSION:2.0
PRODID:-//wp-events-plugin.com//7.2.3.1//EN
BEGIN:VEVENT
UID:2@teechfoundation1.org
DTSTART;TZID=America/Chicago:20250922T100000
DTEND;TZID=America/Chicago:20250922T120000
DTSTAMP:20250905T143500Z
URL:https://teechfoundation1.org/events/the-endless-possibilities-life-bef
 ore-and-after-addiction/
SUMMARY:The Endless Possibilities: Life Before and After Addiction
DESCRIPTION:Time &amp\; Location\nDATE: SEP/22/2025\nTIME: AT 10.00 AM\n\nA
 bout the event\nPRESENTER: La'Sandra Hines\nThe Endless Possibilities: Lif
 e Before and After Addiction
ATTACH;FMTTYPE=image/jpeg:https://teechfoundation1.org/wp-content/uploads/
 2025/09/SEP_FYLER.png
END:VEVENT
BEGIN:VTIMEZONE
TZID:America/Chicago
X-LIC-LOCATION:America/Chicago
BEGIN:DAYLIGHT
DTSTART:20250309T030000
TZOFFSETFROM:-0600
TZOFFSETTO:-0500
TZNAME:CDT
END:DAYLIGHT
END:VTIMEZONE
END:VCALENDAR