BEGIN:VCALENDAR
VERSION:2.0
PRODID:-//wp-events-plugin.com//7.2.3.1//EN
BEGIN:VEVENT
UID:1@teechfoundation1.org
DTSTART;TZID=America/Chicago:20250825T100000
DTEND;TZID=America/Chicago:20250825T120000
DTSTAMP:20250905T143302Z
URL:https://teechfoundation1.org/events/redefining-outreach-a-new-perspect
 ive/
SUMMARY:Redefining Outreach: A New Perspective
DESCRIPTION:Time &amp\; Location\nDATE: 25\, AUGUST 2025\nTIME: AT 10.00 AM
 \n\nAbout the event\nTRAINER: Mr. Leslie Givens\nRedefining Outreach: A Ne
 w Perspective\n
ATTACH;FMTTYPE=image/jpeg:https://teechfoundation1.org/wp-content/uploads/
 2025/08/Aug_Flyer.png
END:VEVENT
BEGIN:VTIMEZONE
TZID:America/Chicago
X-LIC-LOCATION:America/Chicago
BEGIN:DAYLIGHT
DTSTART:20250309T030000
TZOFFSETFROM:-0600
TZOFFSETTO:-0500
TZNAME:CDT
END:DAYLIGHT
END:VTIMEZONE
END:VCALENDAR