BEGIN:VCALENDAR
VERSION:2.0
PRODID:-//wp-events-plugin.com//7.2.3.1//EN
BEGIN:VEVENT
UID:4@teechfoundation1.org
DTSTART;TZID=America/Chicago:20251124T100000
DTEND;TZID=America/Chicago:20251124T120000
DTSTAMP:20251107T232441Z
URL:https://teechfoundation1.org/events/november-fssri-rosc-meeting/
SUMMARY:NOVEMBER FSSRI ROSC MEETING
DESCRIPTION:Your Inner Peace Plan: Navigating The Holidays With Grace\n\nTi
 me &amp\; Location\nDATE: NOV/24/2025\nTIME: AT 10.00 AM\n\nAbout the even
 t\nSPEAKER:\nJerry Davis-EL\nLCSW\, LPHA\, CADC\, COPD1\n
ATTACH;FMTTYPE=image/jpeg:https://teechfoundation1.org/wp-content/uploads/
 2025/11/image-20.png
END:VEVENT
BEGIN:VTIMEZONE
TZID:America/Chicago
X-LIC-LOCATION:America/Chicago
BEGIN:STANDARD
DTSTART:20251102T010000
TZOFFSETFROM:-0500
TZOFFSETTO:-0600
TZNAME:CST
END:STANDARD
END:VTIMEZONE
END:VCALENDAR