BEGIN:VCALENDAR
VERSION:2.0
PRODID:-//wp-events-plugin.com//7.2.3.1//EN
BEGIN:VEVENT
UID:3@teechfoundation1.org
DTSTART;TZID=America/Chicago:20251027T100000
DTEND;TZID=America/Chicago:20251027T120000
DTSTAMP:20251007T144711Z
URL:https://teechfoundation1.org/events/gambling-awareness-harm-reduction-
 presentation/
SUMMARY:Gambling Awareness & Harm Reduction Presentation
DESCRIPTION:Time &amp\; Location\nDATE:  OCTOBER\, 27\, 2025\nTIME: AT 10.
 00 AM\n\nAbout the event\nPRESENTER: Tiffany Web\nOCTOBER FSSRI ROSC MEETI
 NG\n
ATTACH;FMTTYPE=image/jpeg:https://teechfoundation1.org/wp-content/uploads/
 2025/10/image-18-1.jpg
END:VEVENT
BEGIN:VTIMEZONE
TZID:America/Chicago
X-LIC-LOCATION:America/Chicago
BEGIN:DAYLIGHT
DTSTART:20250309T030000
TZOFFSETFROM:-0600
TZOFFSETTO:-0500
TZNAME:CDT
END:DAYLIGHT
END:VTIMEZONE
END:VCALENDAR