BEGIN:VCALENDAR
VERSION:2.0
PRODID:-//wp-events-plugin.com//7.2.3.1//EN
BEGIN:VEVENT
UID:9@teechfoundation1.org
DTSTART;TZID=America/Chicago:20260427T100000
DTEND;TZID=America/Chicago:20260427T120000
DTSTAMP:20260401T233803Z
URL:https://teechfoundation1.org/events/effectiveness-of-police-crisis-int
 ervention/
SUMMARY:EFFECTIVENESS OF POLICE CRISIS INTERVENTION
DESCRIPTION:Time &amp\; Location\nDATE: 27\, April 2026\nTIME: AT 10.00 AM\
 n\nAbout the event\nPRESENTER: Detective De'Shunn 0. Bray\nEFFECTIVENESS O
 F\nPOLICE CRISIS INTERVENTION\n
ATTACH;FMTTYPE=image/jpeg:https://teechfoundation1.org/wp-content/uploads/
 2026/04/image-3.png
END:VEVENT
BEGIN:VTIMEZONE
TZID:America/Chicago
X-LIC-LOCATION:America/Chicago
BEGIN:DAYLIGHT
DTSTART:20260308T030000
TZOFFSETFROM:-0600
TZOFFSETTO:-0500
TZNAME:CDT
END:DAYLIGHT
END:VTIMEZONE
END:VCALENDAR