BEGIN:VCALENDAR
VERSION:2.0
PRODID:-//wp-events-plugin.com//7.2.3.1//EN
BEGIN:VEVENT
UID:8@teechfoundation1.org
DTSTART;TZID=America/Chicago:20260323T100000
DTEND;TZID=America/Chicago:20260323T120000
DTSTAMP:20260309T202923Z
URL:https://teechfoundation1.org/events/domestic-violence-healthy-relation
 ships-strong-communities/
SUMMARY:Domestic Violence - Healthy Relationships - Strong Communities
DESCRIPTION:Time &amp\; Location\nDATE: 23\, March 2026\nTIME: AT 10.00 AM\
 n\nAbout the event\nPresenter: Monica Williams LCPC\nDomestic Violence - H
 ealthy Relationships - Strong Communities
ATTACH;FMTTYPE=image/jpeg:https://teechfoundation1.org/wp-content/uploads/
 2026/03/image-2.webp
END:VEVENT
BEGIN:VTIMEZONE
TZID:America/Chicago
X-LIC-LOCATION:America/Chicago
BEGIN:DAYLIGHT
DTSTART:20260308T030000
TZOFFSETFROM:-0600
TZOFFSETTO:-0500
TZNAME:CDT
END:DAYLIGHT
END:VTIMEZONE
END:VCALENDAR