BEGIN:VCALENDAR
VERSION:2.0
PRODID:-//wp-events-plugin.com//7.2.3.1//EN
BEGIN:VEVENT
UID:5@teechfoundation1.org
DTSTART;TZID=America/Chicago:20251222T100000
DTEND;TZID=America/Chicago:20251222T120000
DTSTAMP:20251208T172824Z
URL:https://teechfoundation1.org/events/december-fssri-rosc-meeting/
SUMMARY:DECEMBER FSSRI ROSC MEETING
DESCRIPTION:TOPIC:\nNaloxone (Narcan) Training With Live CPR Demonstration-
 medication Will Also Bo Provided\n\nTime &amp\; Location\nDATE: DATE: 12/2
 2/2025\nTIME: AT 10.00 AM\n\nAbout the event\nTRAINER: Mr. Leslie Givens\n
 PRESENTER: Frederick Buford RC\, CPRS
ATTACH;FMTTYPE=image/jpeg:https://teechfoundation1.org/wp-content/uploads/
 2025/12/FSSI_FLYER_DEC_NEW-December-scaled.jpg
END:VEVENT
BEGIN:VTIMEZONE
TZID:America/Chicago
X-LIC-LOCATION:America/Chicago
BEGIN:STANDARD
DTSTART:20251102T010000
TZOFFSETFROM:-0500
TZOFFSETTO:-0600
TZNAME:CST
END:STANDARD
END:VTIMEZONE
END:VCALENDAR